BEGIN:VCALENDAR
VERSION:2.0
PRODID:-//eventon.com NONSGML v1.0//EN
CALSCALE:GREGORIAN
METHOD:PUBLISH
BEGIN:VEVENT
UID:69e739b9b3157
DTSTAMP:20260421T084753Z
DTSTART:20200115T000000Z
DTEND:20200117T000000Z
LOCATION:
SUMMARY:Efteruddannelseskursus Munkebjerg\,  15.-17. januar 2020 (Lukket for tilmelding)
DESCRIPTION:Der er nu lukket for tilmelding til Dansk Dermatologisk Selskab
 s efteruddannelseskursus\,  der afholdes 15.-17. januar 2020. Sidste frist 
 for tilmelding var 22. december 2019. Hvis du har du spørgsmål\,  kan du 
 kontakte sekretær Mette Skriver Nielsen\,  Dermatologisk Afd. S\,  Aarhus 
 Universitetshospital\,  P.P.Ørums Gade 11\,  8000 Århus C. E-mail: metten
 ie@rm.dk. Invitation[..]\nhttps://dds.nu/events/efteruddannelseskursus-munk
 ebjerg-15-17-januar-2020/
URL:https://dds.nu/events/efteruddannelseskursus-munkebjerg-15-17-januar-2020/
END:VEVENT
END:VCALENDAR