BEGIN:VCALENDAR
VERSION:2.0
PRODID:-//eventon.com NONSGML v1.0//EN
CALSCALE:GREGORIAN
METHOD:PUBLISH
BEGIN:VEVENT
UID:69e9f3c081563
DTSTAMP:20260423T102608Z
DTSTART:20211007T033000Z
DTEND:20211007T070000Z
LOCATION:
SUMMARY:EADV - What´s new
DESCRIPTION:Invitation til LEO Pharma&#8217;s EADV &#8211; What&#8217;s New
  Møde\nhttps://dds.nu/events/eadv-whats-new/
URL:https://dds.nu/events/eadv-whats-new/
END:VEVENT
END:VCALENDAR