BEGIN:VCALENDAR
VERSION:2.0
PRODID:-//eventon.com NONSGML v1.0//EN
CALSCALE:GREGORIAN
METHOD:PUBLISH
BEGIN:VEVENT
UID:69e762bd5e402
DTSTAMP:20260421T114253Z
DTSTART:20220322T030000Z
DTEND:20220322T040000Z
LOCATION:
SUMMARY:Webinar: Opdaterede internationale guidelines for kronisk spontan urtikaria
DESCRIPTION:Invitation: Invitation_webinar_CSU_21_marts\nhttps://dds.nu/eve
 nts/webinar-opdaterede-internationale-guidelines-for-kronisk-spontan-urtika
 ria/
URL:https://dds.nu/events/webinar-opdaterede-internationale-guidelines-for-kronisk-spontan-urtikaria/
END:VEVENT
END:VCALENDAR