BEGIN:VCALENDAR
VERSION:2.0
PRODID:-//eventon.com NONSGML v1.0//EN
CALSCALE:GREGORIAN
METHOD:PUBLISH
BEGIN:VEVENT
UID:69e7398185af4
DTSTAMP:20260421T084657Z
DTSTART:20221210T090000Z
DTEND:20221210T110000Z
LOCATION:
SUMMARY:“Advancing the UEMS-ESS collaboration in a post pandemic era”
DESCRIPTION:Save the date UEMS ESS meeting Dec 2022 (1)\nhttps://dds.nu/eve
 nts/advancing-the-uems-ess-collaboration-in-a-post-pandemic-era/
URL:https://dds.nu/events/advancing-the-uems-ess-collaboration-in-a-post-pandemic-era/
END:VEVENT
END:VCALENDAR