BEGIN:VCALENDAR
VERSION:2.0
PRODID:-//eventon.com NONSGML v1.0//EN
CALSCALE:GREGORIAN
METHOD:PUBLISH
BEGIN:VEVENT
UID:69e88e4eb5b57
DTSTAMP:20260422T090102Z
DTSTART:20230117T023000Z
DTEND:20230117T043000Z
LOCATION:
SUMMARY:LVS webinar: PRO-data og de specialebærende selskaber
DESCRIPTION:Til de specialebærende selskaber inkl. sekretariater   LVS in
 viterer hermed til 2 webinarer i de kommende måneder.   Begge webinarer o
 mhandler temaer\,  der indgår i LVS’ strategiske satsningsområde\,  som
  har resulteret i 4 forslag  https://selskaberne.dk/ Se også meget gerne 
 LinkedIn og Twitter\,  hvor LVS i disse uger præsenterer forskellige aspek
 ter[..]\nhttps://dds.nu/events/lvs-webinar-pro-data-og-de-specialebaerende-
 selskaber/
URL:https://dds.nu/events/lvs-webinar-pro-data-og-de-specialebaerende-selskaber/
END:VEVENT
END:VCALENDAR