BEGIN:VCALENDAR
VERSION:2.0
PRODID:-//eventon.com NONSGML v1.0//EN
CALSCALE:GREGORIAN
METHOD:PUBLISH
BEGIN:VEVENT
UID:69e88e6f0baad
DTSTAMP:20260422T090135Z
DTSTART:20230504T030000Z
DTEND:20230504T050000Z
LOCATION:
SUMMARY:DDS Generalforsamling 2023\,  online
DESCRIPTION:Indkaldelse til Generalforsamling 2023 Topic: DDS General forsa
 mling 2023 Time: May 3\,  2023 04:00 PM Copenhagen   Join Zoom Meeting htt
 ps://aarhusuniversity.zoom.us/j/65200302056   Meeting ID: 652 0030 2056\nh
 ttps://dds.nu/events/dds-generalforsamling-2023-online/
URL:https://dds.nu/events/dds-generalforsamling-2023-online/
END:VEVENT
END:VCALENDAR