BEGIN:VCALENDAR
VERSION:2.0
PRODID:-//eventon.com NONSGML v1.0//EN
CALSCALE:GREGORIAN
METHOD:PUBLISH
BEGIN:VEVENT
UID:69e8a79f725f8
DTSTAMP:20260422T104903Z
DTSTART:20230921
DTEND:20230922
LOCATION:
SUMMARY:18th NSMM Scientific meeting | Nordisk Selskab for Medicinsk Mykologi 21-22 sep.23
DESCRIPTION:NSMM tentative programme 2023 v6\nhttps://dds.nu/events/18th-ns
 mm-scientific-meeting-nordisk-selskab-for-medicinsk-mykologi-21-22-sep-23/
URL:https://dds.nu/events/18th-nsmm-scientific-meeting-nordisk-selskab-for-medicinsk-mykologi-21-22-sep-23/
END:VEVENT
END:VCALENDAR