BEGIN:VCALENDAR
VERSION:2.0
PRODID:-//eventon.com NONSGML v1.0//EN
CALSCALE:GREGORIAN
METHOD:PUBLISH
BEGIN:VEVENT
UID:69eb27c7a71e3
DTSTAMP:20260424T082023Z
DTSTART:20260930
DTEND:20261001
LOCATION:
SUMMARY:EADV 2026
DESCRIPTION:EADV 2026\nhttps://dds.nu/events/eadv-2026/
URL:https://dds.nu/events/eadv-2026/
END:VEVENT
END:VCALENDAR